BEGIN:VCALENDAR
VERSION:2.0
PRODID:-//TYPO3/NONSGML Calendarize//EN
BEGIN:VEVENT
UID:calendarize-hofjause-2026
DTSTAMP:20260416T091142Z
DTSTART;VALUE=DATE:20260426
DTEND;VALUE=DATE:20260504
SUMMARY:Hofjause 2026
DESCRIPTION:Eine Auflistung alle Betriebe finden sie online unter www.hofj
 ause.at
X-ALT-DESC;FMTTYPE=text/html:<p>Eine Auflistung alle Betriebe finden sie o
 nline unter www.hofjause.at</p>
LOCATION:Niederösterreich (www.hofjause.at)
END:VEVENT
END:VCALENDAR
